BEGIN:VCALENDAR
PRODID:-//eluceo/ical//2.0/EN
VERSION:2.0
CALSCALE:GREGORIAN
BEGIN:VEVENT
UID:hey.bayern.695025.6557387
DTSTAMP:20260426T011803Z
SUMMARY:70 Jahre Jubiläums-Frühshoppen der Schützengilde Bruckhäusl
DTSTART;TZID=Europe/Berlin:20260614T100000
DTEND;TZID=Europe/Berlin:20260614T235900
LOCATION:6322 Kirchbichl\, Österreich
GEO:47.486780;12.112880
X-APPLE-STRUCTURED-LOCATION;VALUE=URI;X-ADDRESS=6322 Kirchbichl\, Österrei
 ch;X-APPLE-RADIUS=49;X-TITLE=:geo:47.486780,12.112880
URL;VALUE=URI:https://hey-traunstein.de/events/695025
END:VEVENT
END:VCALENDAR
