BEGIN:VCALENDAR
PRODID:-//eluceo/ical//2.0/EN
VERSION:2.0
CALSCALE:GREGORIAN
BEGIN:VEVENT
UID:hey.bayern.695004.6557274
DTSTAMP:20260425T011304Z
SUMMARY:4. Genusswandertag am Kogelberg - Start Schießstand des SSVS
DTSTART;TZID=Europe/Berlin:20260919T090000
DTEND;TZID=Europe/Berlin:20260919T180000
LOCATION:Fabriksgasse 44\, 7022 Schattendorf\, Österreich
GEO:47.721712;16.487190
X-APPLE-STRUCTURED-LOCATION;VALUE=URI;X-ADDRESS=Fabriksgasse 44\, 7022 Scha
 ttendorf\, Österreich;X-APPLE-RADIUS=49;X-TITLE=:geo:47.721712,16.487190
URL;VALUE=URI:https://hey-traunstein.de/events/695004
END:VEVENT
END:VCALENDAR
