BEGIN:VCALENDAR
PRODID:-//eluceo/ical//2.0/EN
VERSION:2.0
CALSCALE:GREGORIAN
BEGIN:VEVENT
UID:hey.bayern.695002.6557270
DTSTAMP:20260425T012927Z
SUMMARY:2000er FIRNRENNEN
DTSTART;TZID=Europe/Berlin:20260426T100000
DTEND;TZID=Europe/Berlin:20260426T150000
LOCATION:Hutterer Böden 109\, 4573 Hinterstoder\, Österreich
GEO:47.677101;14.169755
X-APPLE-STRUCTURED-LOCATION;VALUE=URI;X-ADDRESS=Hutterer Böden 109\, 4573 
 Hinterstoder\, Österreich;X-APPLE-RADIUS=49;X-TITLE=:geo:47.677101,14.169
 755
URL;VALUE=URI:https://hey-traunstein.de/events/695002
END:VEVENT
END:VCALENDAR
