BEGIN:VCALENDAR
PRODID:-//eluceo/ical//2.0/EN
VERSION:2.0
CALSCALE:GREGORIAN
BEGIN:VEVENT
UID:hey.bayern.694998.6557265
DTSTAMP:20260425T005536Z
SUMMARY:100 Jahrfeier des GTEV D'Stoawandla Goisern
DTSTART;TZID=Europe/Berlin:20260627T150000
DTEND;TZID=Europe/Berlin:20260627T235500
LOCATION:Obere Marktstraße 1\, 4822 Bad Goisern am Hallstättersee\, Öste
 rreich
GEO:47.638466;13.618078
X-APPLE-STRUCTURED-LOCATION;VALUE=URI;X-ADDRESS=Obere Marktstraße 1\, 4822
  Bad Goisern am Hallstättersee\, Österreich;X-APPLE-RADIUS=49;X-TITLE=:g
 eo:47.638466,13.618078
URL;VALUE=URI:https://hey-traunstein.de/events/694998
END:VEVENT
END:VCALENDAR
