BEGIN:VCALENDAR
PRODID:-//eluceo/ical//2.0/EN
VERSION:2.0
CALSCALE:GREGORIAN
BEGIN:VEVENT
UID:hey.bayern.694997.6557264
DTSTAMP:20260425T011304Z
SUMMARY:10. Schüler und Jugend Theaterfestival Tag 3
DTSTART;TZID=Europe/Berlin:20260522T113000
DTEND;TZID=Europe/Berlin:20260522T153000
LOCATION:Burgplatz 1\, 9800 Spittal an der Drau\, Österreich
URL;VALUE=URI:https://hey-traunstein.de/events/694997
END:VEVENT
END:VCALENDAR
