BEGIN:VCALENDAR
PRODID:-//eluceo/ical//2.0/EN
VERSION:2.0
CALSCALE:GREGORIAN
BEGIN:VEVENT
UID:hey.bayern.694996.6557263
DTSTAMP:20260425T011358Z
SUMMARY:10. Schüler und Jugend Theaterfestival Tag 2
DTSTART;TZID=Europe/Berlin:20260521T100000
DTEND;TZID=Europe/Berlin:20260521T210000
LOCATION:Burgplatz 1\, 9800 Spittal an der Drau\, Österreich
URL;VALUE=URI:https://hey-traunstein.de/events/694996
END:VEVENT
END:VCALENDAR
