BEGIN:VCALENDAR
PRODID:-//eluceo/ical//2.0/EN
VERSION:2.0
CALSCALE:GREGORIAN
BEGIN:VEVENT
UID:hey.bayern.694995.6557262
DTSTAMP:20260425T011446Z
SUMMARY:10. Schüler und Jugend Theaterfestival
DTSTART;TZID=Europe/Berlin:20260520T103000
DTEND;TZID=Europe/Berlin:20260520T213000
LOCATION:Burgplatz 1\, 9800 Spittal an der Drau\, Österreich
URL;VALUE=URI:https://hey-traunstein.de/events/694995
END:VEVENT
END:VCALENDAR
