BEGIN:VCALENDAR
PRODID:-//eluceo/ical//2.0/EN
VERSION:2.0
CALSCALE:GREGORIAN
BEGIN:VEVENT
UID:hey.bayern.694987.6557239
DTSTAMP:20260424T130828Z
SUMMARY:Art Talk zur Ausstellung "Amador & Comploj"
DTSTART;TZID=Europe/Berlin:20260531T150000
DTEND;TZID=Europe/Berlin:20260531T160000
LOCATION:Ascheter Straße 54\, 4600 Thalheim bei Wels\, Österreich
GEO:48.148456;14.019962
X-APPLE-STRUCTURED-LOCATION;VALUE=URI;X-ADDRESS=Ascheter Straße 54\, 4600 
 Thalheim bei Wels\, Österreich;X-APPLE-RADIUS=49;X-TITLE=:geo:48.148456,1
 4.019962
URL;VALUE=URI:https://hey-traunstein.de/events/694987
END:VEVENT
END:VCALENDAR
