BEGIN:VCALENDAR
PRODID:-//eluceo/ical//2.0/EN
VERSION:2.0
CALSCALE:GREGORIAN
BEGIN:VEVENT
UID:hey.bayern.694985.6557237
DTSTAMP:20260424T144607Z
SUMMARY:Art Brunch zum Muttertag I Museum Angerlehner
DTSTART;TZID=Europe/Berlin:20260510T093000
DTEND;TZID=Europe/Berlin:20260510T235900
LOCATION:Ascheter Straße 54\, 4600 Thalheim bei Wels\, Österreich
GEO:48.148456;14.019962
X-APPLE-STRUCTURED-LOCATION;VALUE=URI;X-ADDRESS=Ascheter Straße 54\, 4600 
 Thalheim bei Wels\, Österreich;X-APPLE-RADIUS=49;X-TITLE=:geo:48.148456,1
 4.019962
URL;VALUE=URI:https://hey-traunstein.de/events/694985
END:VEVENT
END:VCALENDAR
