BEGIN:VCALENDAR
PRODID:-//eluceo/ical//2.0/EN
VERSION:2.0
CALSCALE:GREGORIAN
BEGIN:VEVENT
UID:hey.bayern.694977.6557210
DTSTAMP:20260424T130824Z
SUMMARY:AUSSTELLUNG - Ulrich Auinger
DTSTART;TZID=Europe/Berlin:20260506T190000
DTEND;TZID=Europe/Berlin:20260506T235900
LOCATION:Stadtplatz 8\, 4600 Wels\, Österreich
GEO:48.156902;14.025570
X-APPLE-STRUCTURED-LOCATION;VALUE=URI;X-ADDRESS=Stadtplatz 8\, 4600 Wels\, 
 Österreich;X-APPLE-RADIUS=49;X-TITLE=:geo:48.156902,14.025570
URL;VALUE=URI:https://hey-traunstein.de/events/694977
END:VEVENT
END:VCALENDAR
