BEGIN:VCALENDAR
PRODID:-//eluceo/ical//2.0/EN
VERSION:2.0
CALSCALE:GREGORIAN
BEGIN:VEVENT
UID:hey.bayern.694964.6557100
DTSTAMP:20260425T012928Z
SUMMARY:Yoga und Brunch - Komme in deine Selbstermächtigung
DTSTART;TZID=Europe/Berlin:20260516T090000
DTEND;TZID=Europe/Berlin:20260516T235900
LOCATION:610505 Leutasch
GEO:47.373860;11.169060
X-APPLE-STRUCTURED-LOCATION;VALUE=URI;X-ADDRESS=610505 Leutasch;X-APPLE-RAD
 IUS=49;X-TITLE=:geo:47.373860,11.169060
URL;VALUE=URI:https://hey-traunstein.de/events/694964
END:VEVENT
END:VCALENDAR
