BEGIN:VCALENDAR
PRODID:-//eluceo/ical//2.0/EN
VERSION:2.0
CALSCALE:GREGORIAN
BEGIN:VEVENT
UID:hey.bayern.694962.6557087
DTSTAMP:20260425T013221Z
SUMMARY:Yoga 60plus
DTSTART;TZID=Europe/Berlin:20260812T083000
DTEND;TZID=Europe/Berlin:20260812T235900
LOCATION:610505 Leutasch
GEO:47.373860;11.169060
X-APPLE-STRUCTURED-LOCATION;VALUE=URI;X-ADDRESS=610505 Leutasch;X-APPLE-RAD
 IUS=49;X-TITLE=:geo:47.373860,11.169060
URL;VALUE=URI:https://hey-traunstein.de/events/694962
END:VEVENT
END:VCALENDAR
