BEGIN:VCALENDAR
PRODID:-//eluceo/ical//2.0/EN
VERSION:2.0
CALSCALE:GREGORIAN
BEGIN:VEVENT
UID:hey.bayern.694893.6556660
DTSTAMP:20260423T002025Z
SUMMARY:Kräuterzeit im Lechtal
DTSTART;TZID=Europe/Berlin:20260803T160000
DTEND;TZID=Europe/Berlin:20260803T235900
LOCATION:6655 Steeg\, Österreich
URL;VALUE=URI:https://hey-traunstein.de/events/694893
END:VEVENT
END:VCALENDAR
