BEGIN:VCALENDAR
PRODID:-//eluceo/ical//2.0/EN
VERSION:2.0
CALSCALE:GREGORIAN
BEGIN:VEVENT
UID:hey.bayern.694876.6556534
DTSTAMP:20260423T013104Z
SUMMARY:Herbstsymposium der GLE Österreich
DTSTART;TZID=Europe/Berlin:20261002T123000
DTEND;TZID=Europe/Berlin:20261002T235900
LOCATION:6060 Hall in Tirol\, Österreich
GEO:47.283320;11.509460
X-APPLE-STRUCTURED-LOCATION;VALUE=URI;X-ADDRESS=6060 Hall in Tirol\, Öster
 reich;X-APPLE-RADIUS=49;X-TITLE=:geo:47.283320,11.509460
URL;VALUE=URI:https://hey-traunstein.de/events/694876
END:VEVENT
END:VCALENDAR
