BEGIN:VCALENDAR
PRODID:-//eluceo/ical//2.0/EN
VERSION:2.0
CALSCALE:GREGORIAN
BEGIN:VEVENT
UID:hey.bayern.694848.6556296
DTSTAMP:20260423T020223Z
SUMMARY:Feuerwehrfest & Fahrzeugsegnung
DTSTART;TZID=Europe/Berlin:20260626T190000
DTEND;TZID=Europe/Berlin:20260626T235900
LOCATION:6100 Mösern\, Österreich
GEO:47.311340;11.146890
X-APPLE-STRUCTURED-LOCATION;VALUE=URI;X-ADDRESS=6100 Mösern\, Österreich;
 X-APPLE-RADIUS=49;X-TITLE=:geo:47.311340,11.146890
URL;VALUE=URI:https://hey-traunstein.de/events/694848
END:VEVENT
END:VCALENDAR
