BEGIN:VCALENDAR
PRODID:-//eluceo/ical//2.0/EN
VERSION:2.0
CALSCALE:GREGORIAN
BEGIN:VEVENT
UID:hey.bayern.694773.6555820
DTSTAMP:20260422T005107Z
SUMMARY:Theaterwagen Porcia
DTSTART;TZID=Europe/Berlin:20260628T190000
DTEND;TZID=Europe/Berlin:20260628T200000
LOCATION:Mauthen 261\, 9640 Kötschach-Mauthen\, Österreich
GEO:46.659171;13.000315
X-APPLE-STRUCTURED-LOCATION;VALUE=URI;X-ADDRESS=Mauthen 261\, 9640 Kötscha
 ch-Mauthen\, Österreich;X-APPLE-RADIUS=49;X-TITLE=:geo:46.659171,13.00031
 5
URL;VALUE=URI:https://hey-traunstein.de/events/694773
END:VEVENT
END:VCALENDAR
