BEGIN:VCALENDAR
PRODID:-//eluceo/ical//2.0/EN
VERSION:2.0
CALSCALE:GREGORIAN
BEGIN:VEVENT
UID:hey.bayern.694748.6554706
DTSTAMP:20260422T005107Z
SUMMARY:Paar-Zeit
DTSTART;TZID=Europe/Berlin:20261016T150000
DTEND;TZID=Europe/Berlin:20261017T150000
LOCATION:Smart Home 1\, 4154 Kollerschlag\, Österreich
GEO:48.602235;13.837734
X-APPLE-STRUCTURED-LOCATION;VALUE=URI;X-ADDRESS=Smart Home 1\, 4154 Kollers
 chlag\, Österreich;X-APPLE-RADIUS=49;X-TITLE=:geo:48.602235,13.837734
URL;VALUE=URI:https://hey-traunstein.de/events/694748
END:VEVENT
END:VCALENDAR
