BEGIN:VCALENDAR
PRODID:-//eluceo/ical//2.0/EN
VERSION:2.0
CALSCALE:GREGORIAN
BEGIN:VEVENT
UID:hey.bayern.694726.6554605
DTSTAMP:20260422T222727Z
SUMMARY:Kunstkino - Father Mother Sister Brother
DTSTART;TZID=Europe/Berlin:20260504T193000
DTEND;TZID=Europe/Berlin:20260504T213000
LOCATION:6370 Kitzbühel\, Österreich
URL;VALUE=URI:https://hey-traunstein.de/events/694726
END:VEVENT
END:VCALENDAR
