BEGIN:VCALENDAR
PRODID:-//eluceo/ical//2.0/EN
VERSION:2.0
CALSCALE:GREGORIAN
BEGIN:VEVENT
UID:hey.bayern.694698.6554558
DTSTAMP:20260424T163514Z
SUMMARY:Inklusionswanderung gemeinsam mit der Lebenshilfe Trofaiach
DTSTART;TZID=Europe/Berlin:20260424T150000
DTEND;TZID=Europe/Berlin:20260424T180000
URL;VALUE=URI:https://hey-traunstein.de/events/694698
END:VEVENT
END:VCALENDAR
