BEGIN:VCALENDAR
PRODID:-//eluceo/ical//2.0/EN
VERSION:2.0
CALSCALE:GREGORIAN
BEGIN:VEVENT
UID:hey.bayern.694667.6554226
DTSTAMP:20260424T165219Z
SUMMARY:Dämmerschoppen in St. Anna/Aigen
DTSTART;TZID=Europe/Berlin:20260808T193000
DTEND;TZID=Europe/Berlin:20260808T235959
LOCATION:Schonnerfeld 77a\, 8354 St. Anna am Aigen\, Österreich
URL;VALUE=URI:https://hey-traunstein.de/events/694667
END:VEVENT
END:VCALENDAR
