BEGIN:VCALENDAR
PRODID:-//eluceo/ical//2.0/EN
VERSION:2.0
CALSCALE:GREGORIAN
BEGIN:VEVENT
UID:hey.bayern.694666.6554225
DTSTAMP:20260424T163642Z
SUMMARY:Du hubst\, wir trinken Challenge
DTSTART;TZID=Europe/Berlin:20260425T100000
DTEND;TZID=Europe/Berlin:20260425T235959
LOCATION:Gauitsch 26a\, 8442 Kitzeck im Sausal\, Österreich
GEO:46.785517;15.457523
X-APPLE-STRUCTURED-LOCATION;VALUE=URI;X-ADDRESS=Gauitsch 26a\, 8442 Kitzeck
  im Sausal\, Österreich;X-APPLE-RADIUS=49;X-TITLE=:geo:46.785517,15.45752
 3
URL;VALUE=URI:https://hey-traunstein.de/events/694666
END:VEVENT
END:VCALENDAR
