BEGIN:VCALENDAR
PRODID:-//eluceo/ical//2.0/EN
VERSION:2.0
CALSCALE:GREGORIAN
BEGIN:VEVENT
UID:hey.bayern.694643.6553965
DTSTAMP:20260423T164359Z
SUMMARY:100 Jahre Viktoria-Adelheid-Schutzhütte am Brandstetterkogel
DTSTART;TZID=Europe/Berlin:20260830T100000
DTEND;TZID=Europe/Berlin:20260830T200000
LOCATION:Schaltberg 47\, 3323 Neustadtl an der Donau\, Österreich
GEO:48.193323;14.903083
X-APPLE-STRUCTURED-LOCATION;VALUE=URI;X-ADDRESS=Schaltberg 47\, 3323 Neusta
 dtl an der Donau\, Österreich;X-APPLE-RADIUS=49;X-TITLE=:geo:48.193323,14
 .903083
URL;VALUE=URI:https://hey-traunstein.de/events/694643
END:VEVENT
END:VCALENDAR
