BEGIN:VCALENDAR
PRODID:-//eluceo/ical//2.0/EN
VERSION:2.0
CALSCALE:GREGORIAN
BEGIN:VEVENT
UID:hey.bayern.694637.6553751
DTSTAMP:20260421T020750Z
SUMMARY:Solo & Kammermusik Konzertreihe Vol. 3
DTSTART;TZID=Europe/Berlin:20260520T190000
DTEND;TZID=Europe/Berlin:20260521T190000
URL;VALUE=URI:https://hey-traunstein.de/events/694637
END:VEVENT
END:VCALENDAR
