BEGIN:VCALENDAR
PRODID:-//eluceo/ical//2.0/EN
VERSION:2.0
CALSCALE:GREGORIAN
BEGIN:VEVENT
UID:hey.bayern.694621.6553680
DTSTAMP:20260421T133541Z
SUMMARY:GANES | 15 Jahre Best of Ganes! -  Attergauer Kultursommer 2026
DTSTART;TZID=Europe/Berlin:20260729T190000
DTEND;TZID=Europe/Berlin:20260730T000000
LOCATION:Ortsplatzstraße 3\, 4851 Gampern\, Österreich
GEO:47.988329;13.556104
X-APPLE-STRUCTURED-LOCATION;VALUE=URI;X-ADDRESS=Ortsplatzstraße 3\, 4851 G
 ampern\, Österreich;X-APPLE-RADIUS=49;X-TITLE=:geo:47.988329,13.556104
URL;VALUE=URI:https://hey-traunstein.de/events/694621
END:VEVENT
END:VCALENDAR
