BEGIN:VCALENDAR
PRODID:-//eluceo/ical//2.0/EN
VERSION:2.0
CALSCALE:GREGORIAN
BEGIN:VEVENT
UID:hey.bayern.694616.6553668
DTSTAMP:20260421T103805Z
SUMMARY:Beach Party
DTSTART;TZID=Europe/Berlin:20260501T183000
DTEND;TZID=Europe/Berlin:20260502T235900
LOCATION:Enzmilnerplatz\, 4322 Windhaag bei Perg\, Österreich
GEO:48.283663;14.680929
X-APPLE-STRUCTURED-LOCATION;VALUE=URI;X-ADDRESS=Enzmilnerplatz\, 4322 Windh
 aag bei Perg\, Österreich;X-APPLE-RADIUS=49;X-TITLE=:geo:48.283663,14.680
 929
URL;VALUE=URI:https://hey-traunstein.de/events/694616
END:VEVENT
END:VCALENDAR
