BEGIN:VCALENDAR
PRODID:-//eluceo/ical//2.0/EN
VERSION:2.0
CALSCALE:GREGORIAN
BEGIN:VEVENT
UID:hey.bayern.694600.6553366
DTSTAMP:20260420T010302Z
SUMMARY:Rosenfest in Bad Oberdorf
DTSTART;TZID=Europe/Berlin:20260502T100000
DTEND;TZID=Europe/Berlin:20260503T100000
LOCATION:Hintersteiner Straße 2\, 87541 Bad Hindelang
GEO:47.501270;10.386180
X-APPLE-STRUCTURED-LOCATION;VALUE=URI;X-ADDRESS=Hintersteiner Straße 2\, 8
 7541 Bad Hindelang;X-APPLE-RADIUS=49;X-TITLE=:geo:47.501270,10.386180
URL;VALUE=URI:https://hey-traunstein.de/events/694600
END:VEVENT
END:VCALENDAR
