BEGIN:VCALENDAR
PRODID:-//eluceo/ical//2.0/EN
VERSION:2.0
CALSCALE:GREGORIAN
BEGIN:VEVENT
UID:hey.bayern.694598.6553362
DTSTAMP:20260420T101902Z
SUMMARY:Platzlfest in Eisentratten
DTSTART;TZID=Europe/Berlin:20260603T180000
DTEND;TZID=Europe/Berlin:20260603T230000
URL;VALUE=URI:https://hey-traunstein.de/events/694598
END:VEVENT
END:VCALENDAR
