BEGIN:VCALENDAR
PRODID:-//eluceo/ical//2.0/EN
VERSION:2.0
CALSCALE:GREGORIAN
BEGIN:VEVENT
UID:hey.bayern.694593.6553089
DTSTAMP:20260420T085135Z
SUMMARY:Offenes Singen
DTSTART;TZID=Europe/Berlin:20260610T190000
DTEND;TZID=Europe/Berlin:20260610T203000
LOCATION:Max-Halbe-Weg 7\, 88131 Lindau (Bodensee)
GEO:47.543975;9.731398
X-APPLE-STRUCTURED-LOCATION;VALUE=URI;X-ADDRESS=Max-Halbe-Weg 7\, 88131 Lin
 dau (Bodensee);X-APPLE-RADIUS=49;X-TITLE=:geo:47.543975,9.731398
URL;VALUE=URI:https://hey-traunstein.de/events/694593
END:VEVENT
END:VCALENDAR
