BEGIN:VCALENDAR
PRODID:-//eluceo/ical//2.0/EN
VERSION:2.0
CALSCALE:GREGORIAN
BEGIN:VEVENT
UID:hey.bayern.694554.6553000
DTSTAMP:20260420T082220Z
SUMMARY:Gitarrenkonzert "Virtuoso"mit Stephan Stiens
DTSTART;TZID=Europe/Berlin:20260801T200000
DTEND;TZID=Europe/Berlin:20260801T235900
LOCATION:6633 Biberwier\, Österreich
GEO:47.378530;10.896920
X-APPLE-STRUCTURED-LOCATION;VALUE=URI;X-ADDRESS=6633 Biberwier\, Österreic
 h;X-APPLE-RADIUS=49;X-TITLE=:geo:47.378530,10.896920
URL;VALUE=URI:https://hey-traunstein.de/events/694554
END:VEVENT
END:VCALENDAR
