BEGIN:VCALENDAR
PRODID:-//eluceo/ical//2.0/EN
VERSION:2.0
CALSCALE:GREGORIAN
BEGIN:VEVENT
UID:hey.bayern.694541.6552770
DTSTAMP:20260420T132003Z
SUMMARY:Aqua Zumba mit Julia Haun
DTSTART;TZID=Europe/Berlin:20260519T173000
DTEND;TZID=Europe/Berlin:20260519T183000
LOCATION:6314 Wildschönau\, Österreich
URL;VALUE=URI:https://hey-traunstein.de/events/694541
END:VEVENT
END:VCALENDAR
