BEGIN:VCALENDAR
PRODID:-//eluceo/ical//2.0/EN
VERSION:2.0
CALSCALE:GREGORIAN
BEGIN:VEVENT
UID:hey.bayern.694525.6552607
DTSTAMP:20260419T201538Z
SUMMARY:Vortrag "Hilfe zur Selbsthilfe in Tansania" mit Selina Jury
DTSTART;TZID=Europe/Berlin:20260704T193000
DTEND;TZID=Europe/Berlin:20260704T235959
LOCATION:Unken 25\, 5091 Unken\, Österreich
URL;VALUE=URI:https://hey-traunstein.de/events/694525
END:VEVENT
END:VCALENDAR
