BEGIN:VCALENDAR
PRODID:-//eluceo/ical//2.0/EN
VERSION:2.0
CALSCALE:GREGORIAN
BEGIN:VEVENT
UID:hey.bayern.694478.6552066
DTSTAMP:20260420T021905Z
SUMMARY:Maiandacht 2026
DTSTART;TZID=Europe/Berlin:20260522T190000
DTEND;TZID=Europe/Berlin:20260522T235959
LOCATION:Hinzenbach 20\, 4070 Hinzenbach\, Österreich
GEO:48.309887;14.006727
X-APPLE-STRUCTURED-LOCATION;VALUE=URI;X-ADDRESS=Hinzenbach 20\, 4070 Hinzen
 bach\, Österreich;X-APPLE-RADIUS=49;X-TITLE=:geo:48.309887,14.006727
URL;VALUE=URI:https://hey-traunstein.de/events/694478
END:VEVENT
END:VCALENDAR
