BEGIN:VCALENDAR
PRODID:-//eluceo/ical//2.0/EN
VERSION:2.0
CALSCALE:GREGORIAN
BEGIN:VEVENT
UID:hey.bayern.694470.6552038
DTSTAMP:20260420T021905Z
SUMMARY:Linz in2 Jazz: Hamel | Plattner (DROP Tour)
DTSTART;TZID=Europe/Berlin:20260422T203000
DTEND;TZID=Europe/Berlin:20260422T235900
LOCATION:Altstadt 2\, 4020 Linz\, Österreich
GEO:48.305757;14.284073
X-APPLE-STRUCTURED-LOCATION;VALUE=URI;X-ADDRESS=Altstadt 2\, 4020 Linz\, Ö
 sterreich;X-APPLE-RADIUS=49;X-TITLE=:geo:48.305757,14.284073
URL;VALUE=URI:https://hey-traunstein.de/events/694470
END:VEVENT
END:VCALENDAR
