BEGIN:VCALENDAR
PRODID:-//eluceo/ical//2.0/EN
VERSION:2.0
CALSCALE:GREGORIAN
BEGIN:VEVENT
UID:hey.bayern.694452.6551751
DTSTAMP:20260420T214130Z
SUMMARY:Klettereldorado Montafon. Klettern an der Sporaplatte – dem Wahrz
 eichen des Gauertals am Fuße des Großen Drusenturms (2.830 m) - mit Berg
 führer.
DTSTART;TZID=Europe/Berlin:20260710T000000
DTEND;TZID=Europe/Berlin:20260711T000000
LOCATION:6774 Tschagguns\, Österreich
GEO:47.034460;9.835420
X-APPLE-STRUCTURED-LOCATION;VALUE=URI;X-ADDRESS=6774 Tschagguns\, Österrei
 ch;X-APPLE-RADIUS=49;X-TITLE=:geo:47.034460,9.835420
URL;VALUE=URI:https://hey-traunstein.de/events/694452
END:VEVENT
END:VCALENDAR
