BEGIN:VCALENDAR
PRODID:-//eluceo/ical//2.0/EN
VERSION:2.0
CALSCALE:GREGORIAN
BEGIN:VEVENT
UID:hey.bayern.694443.6551663
DTSTAMP:20260420T072201Z
SUMMARY:In meiner Bubble bin ich Kapitän
DTSTART;TZID=Europe/Berlin:20260814T193000
DTEND;TZID=Europe/Berlin:20260815T193000
LOCATION:Heunburg 1\, 9111 Haimburg\, Österreich
GEO:46.692605;14.670015
X-APPLE-STRUCTURED-LOCATION;VALUE=URI;X-ADDRESS=Heunburg 1\, 9111 Haimburg\
 , Österreich;X-APPLE-RADIUS=49;X-TITLE=:geo:46.692605,14.670015
URL;VALUE=URI:https://hey-traunstein.de/events/694443
END:VEVENT
END:VCALENDAR
