BEGIN:VCALENDAR
PRODID:-//eluceo/ical//2.0/EN
VERSION:2.0
CALSCALE:GREGORIAN
BEGIN:VEVENT
UID:hey.bayern.694437.6551627
DTSTAMP:20260419T220444Z
SUMMARY:Geschichten von Klaus Reiter
DTSTART;TZID=Europe/Berlin:20260822T193000
DTEND;TZID=Europe/Berlin:20260822T235959
LOCATION:Unken 25\, 5091 Unken\, Österreich
URL;VALUE=URI:https://hey-traunstein.de/events/694437
END:VEVENT
END:VCALENDAR
