BEGIN:VCALENDAR
PRODID:-//eluceo/ical//2.0/EN
VERSION:2.0
CALSCALE:GREGORIAN
BEGIN:VEVENT
UID:hey.bayern.694435.6551625
DTSTAMP:20260419T133613Z
SUMMARY:Geführte Wanderung: "Horn-Gipfel-Höhenweg"
DTSTART;TZID=Europe/Berlin:20260915T090000
DTEND;TZID=Europe/Berlin:20260915T130000
LOCATION:6380 St. Johann in Tirol\, Österreich
URL;VALUE=URI:https://hey-traunstein.de/events/694435
END:VEVENT
END:VCALENDAR
