BEGIN:VCALENDAR
PRODID:-//eluceo/ical//2.0/EN
VERSION:2.0
CALSCALE:GREGORIAN
BEGIN:VEVENT
UID:hey.bayern.694434.6551615
DTSTAMP:20260420T095659Z
SUMMARY:GATES OF SUMMER
DTSTART;TZID=Europe/Berlin:20260508T100000
DTEND;TZID=Europe/Berlin:20260508T180000
LOCATION:Strand Nord 4\, 9583 Faak am See\, Österreich
GEO:46.574110;13.932500
X-APPLE-STRUCTURED-LOCATION;VALUE=URI;X-ADDRESS=Strand Nord 4\, 9583 Faak a
 m See\, Österreich;X-APPLE-RADIUS=49;X-TITLE=:geo:46.574110,13.932500
URL;VALUE=URI:https://hey-traunstein.de/events/694434
END:VEVENT
END:VCALENDAR
