BEGIN:VCALENDAR
PRODID:-//eluceo/ical//2.0/EN
VERSION:2.0
CALSCALE:GREGORIAN
BEGIN:VEVENT
UID:hey.bayern.694428.6551450
DTSTAMP:20260419T133717Z
SUMMARY:First Mover Tour
DTSTART;TZID=Europe/Berlin:20260824T180000
DTEND;TZID=Europe/Berlin:20260824T235959
LOCATION:Hochkönigstraße 1c\, 5760 Saalfelden am Steinernen Meer\, Öster
 reich
URL;VALUE=URI:https://hey-traunstein.de/events/694428
END:VEVENT
END:VCALENDAR
