BEGIN:VCALENDAR
PRODID:-//eluceo/ical//2.0/EN
VERSION:2.0
CALSCALE:GREGORIAN
BEGIN:VEVENT
UID:hey.bayern.694424.6551324
DTSTAMP:20260419T152640Z
SUMMARY:Fahrtechniktraining für Anfänger
DTSTART;TZID=Europe/Berlin:20260729T090000
DTEND;TZID=Europe/Berlin:20260729T120000
LOCATION:6311 Wildschönau\, Österreich
URL;VALUE=URI:https://hey-traunstein.de/events/694424
END:VEVENT
END:VCALENDAR
