BEGIN:VCALENDAR
PRODID:-//eluceo/ical//2.0/EN
VERSION:2.0
CALSCALE:GREGORIAN
BEGIN:VEVENT
UID:hey.bayern.694424.6551316
DTSTAMP:20260419T152644Z
SUMMARY:Fahrtechniktraining für Anfänger
DTSTART;TZID=Europe/Berlin:20260603T090000
DTEND;TZID=Europe/Berlin:20260603T120000
LOCATION:6311 Wildschönau\, Österreich
URL;VALUE=URI:https://hey-traunstein.de/events/694424
END:VEVENT
END:VCALENDAR
