BEGIN:VCALENDAR
PRODID:-//eluceo/ical//2.0/EN
VERSION:2.0
CALSCALE:GREGORIAN
BEGIN:VEVENT
UID:hey.bayern.694422.6551305
DTSTAMP:20260420T210102Z
SUMMARY:Eröffnung WiFam - mehr als nur Kleidung
DTSTART;TZID=Europe/Berlin:20260530T090000
DTEND;TZID=Europe/Berlin:20260530T180000
LOCATION:Rathausgasse 3\, 6700 Bludenz\, Österreich
GEO:47.156527;9.819961
X-APPLE-STRUCTURED-LOCATION;VALUE=URI;X-ADDRESS=Rathausgasse 3\, 6700 Blude
 nz\, Österreich;X-APPLE-RADIUS=49;X-TITLE=:geo:47.156527,9.819961
URL;VALUE=URI:https://hey-traunstein.de/events/694422
END:VEVENT
END:VCALENDAR
