BEGIN:VCALENDAR
PRODID:-//eluceo/ical//2.0/EN
VERSION:2.0
CALSCALE:GREGORIAN
BEGIN:VEVENT
UID:hey.bayern.694419.6551281
DTSTAMP:20260419T115758Z
SUMMARY:EU PUB QUIZ
DTSTART;TZID=Europe/Berlin:20260422T183000
DTEND;TZID=Europe/Berlin:20260422T203000
LOCATION:Pfarrgasse 4\, 5630 Bad Hofgastein\, Österreich
URL;VALUE=URI:https://hey-traunstein.de/events/694419
END:VEVENT
END:VCALENDAR
