BEGIN:VCALENDAR
PRODID:-//eluceo/ical//2.0/EN
VERSION:2.0
CALSCALE:GREGORIAN
BEGIN:VEVENT
UID:hey.bayern.694406.6551226
DTSTAMP:20260420T072203Z
SUMMARY:Barry Creyton: Doppelfehler
DTSTART;TZID=Europe/Berlin:20260806T193000
DTEND;TZID=Europe/Berlin:20260807T193000
LOCATION:Heunburg 1\, 9111 Haimburg\, Österreich
GEO:46.692594;14.670085
X-APPLE-STRUCTURED-LOCATION;VALUE=URI;X-ADDRESS=Heunburg 1\, 9111 Haimburg\
 , Österreich;X-APPLE-RADIUS=49;X-TITLE=:geo:46.692594,14.670085
URL;VALUE=URI:https://hey-traunstein.de/events/694406
END:VEVENT
END:VCALENDAR
