BEGIN:VCALENDAR
PRODID:-//eluceo/ical//2.0/EN
VERSION:2.0
CALSCALE:GREGORIAN
BEGIN:VEVENT
UID:hey.bayern.694371.6551009
DTSTAMP:20260420T073939Z
SUMMARY:Walk of Modern Art - Geführte Spaziergänge
DTSTART;TZID=Europe/Berlin:20260612T150000
DTEND;TZID=Europe/Berlin:20260612T235959
LOCATION:Treffpunkt: Festungsgasse Talstation\, 5020 Salzburg\, Österreich
GEO:47.805139;13.038069
X-APPLE-STRUCTURED-LOCATION;VALUE=URI;X-ADDRESS=Treffpunkt: Festungsgasse T
 alstation\, 5020 Salzburg\, Österreich;X-APPLE-RADIUS=49;X-TITLE=:geo:47.
 805139,13.038069
URL;VALUE=URI:https://hey-traunstein.de/events/694371
END:VEVENT
END:VCALENDAR
