BEGIN:VCALENDAR
PRODID:-//eluceo/ical//2.0/EN
VERSION:2.0
CALSCALE:GREGORIAN
BEGIN:VEVENT
UID:hey.bayern.694369.6551006
DTSTAMP:20260421T090414Z
SUMMARY:Vollmondtour am Neusiedlersee
DTSTART;TZID=Europe/Berlin:20260926T183000
DTEND;TZID=Europe/Berlin:20260926T203000
LOCATION:Ruster Bucht 4\, Südhafen\, 7071 Rust\, Österreich
URL;VALUE=URI:https://hey-traunstein.de/events/694369
END:VEVENT
END:VCALENDAR
