BEGIN:VCALENDAR
PRODID:-//eluceo/ical//2.0/EN
VERSION:2.0
CALSCALE:GREGORIAN
BEGIN:VEVENT
UID:hey.bayern.694325.6550820
DTSTAMP:20260420T210059Z
SUMMARY:RAUHBEIN • „Helden & Rebellen Tour 2026”
DTSTART;TZID=Europe/Berlin:20261218T190000
DTEND;TZID=Europe/Berlin:20261218T230000
LOCATION:Boden 1\, 6850 Dornbirn\, Österreich
GEO:47.393850;9.766390
X-APPLE-STRUCTURED-LOCATION;VALUE=URI;X-ADDRESS=Boden 1\, 6850 Dornbirn\, 
 Österreich;X-APPLE-RADIUS=49;X-TITLE=:geo:47.393850,9.766390
URL;VALUE=URI:https://hey-traunstein.de/events/694325
END:VEVENT
END:VCALENDAR
