BEGIN:VCALENDAR
PRODID:-//eluceo/ical//2.0/EN
VERSION:2.0
CALSCALE:GREGORIAN
BEGIN:VEVENT
UID:hey.bayern.694243.6550515
DTSTAMP:20260420T073908Z
SUMMARY:Heute ist nichts passiert
DTSTART;TZID=Europe/Berlin:20260521T140000
DTEND;TZID=Europe/Berlin:20260521T235959
LOCATION:Mirabellgarten\, 5020 Salzburg\, Österreich
GEO:47.805236;13.040234
X-APPLE-STRUCTURED-LOCATION;VALUE=URI;X-ADDRESS=Mirabellgarten\, 5020 Salzb
 urg\, Österreich;X-APPLE-RADIUS=49;X-TITLE=:geo:47.805236,13.040234
URL;VALUE=URI:https://hey-traunstein.de/events/694243
END:VEVENT
END:VCALENDAR
