BEGIN:VCALENDAR
PRODID:-//eluceo/ical//2.0/EN
VERSION:2.0
CALSCALE:GREGORIAN
BEGIN:VEVENT
UID:hey.bayern.694162.6550016
DTSTAMP:20260420T064458Z
SUMMARY:Ausstellung "In der erhabenen Gestalt des Menschen"
DTSTART;TZID=Europe/Berlin:20260524T090000
DTEND;TZID=Europe/Berlin:20260525T090000
LOCATION:Kirchenweg\, 9201 Krumpendorf am Wörthersee\, Österreich
URL;VALUE=URI:https://hey-traunstein.de/events/694162
END:VEVENT
END:VCALENDAR
