BEGIN:VCALENDAR
PRODID:-//eluceo/ical//2.0/EN
VERSION:2.0
CALSCALE:GREGORIAN
BEGIN:VEVENT
UID:hey.bayern.694118.6549451
DTSTAMP:20260421T102823Z
SUMMARY:Was ist der Mensch? - Eröffnung der Neuinszenierung
DTSTART;TZID=Europe/Berlin:20260424T150000
DTEND;TZID=Europe/Berlin:20260424T235959
LOCATION:Hauptstraße 1\, 8813 St. Lambrecht\, Österreich
URL;VALUE=URI:https://hey-traunstein.de/events/694118
END:VEVENT
END:VCALENDAR
